BEGIN:VCALENDAR
VERSION:2.0
PRODID:-//Plone.org//NONSGML plone.app.event//EN
X-WR-TIMEZONE:Europe/Madrid
BEGIN:VEVENT
SUMMARY:AL FINAL\, LAS VISIONS. LLÀTZER GARCIA Y LA SALA BECKETT
DTSTART;TZID=Europe/Madrid;VALUE=DATE-TIME:20231014T200000
DTEND;TZID=Europe/Madrid;VALUE=DATE-TIME:20231014T213000
DTSTAMP;VALUE=DATE-TIME:20260420T215028Z
UID:d6d4130bf37d4a2886aed509e2938ccd@www.paeria.cat
CREATED;VALUE=DATE-TIME:20230728T170418Z
DESCRIPTION:Culpas impuestas\, redenciones que se hacen esperar muchos añ
 os\, sueños\, retornos\, visiones y finales forman parte de una historia.
LAST-MODIFIED;VALUE=DATE-TIME:20231009T082245Z
URL:https://www.paeria.cat/es/actualidad/agenda/al-final-las-visiones-last
 er-garcia-y-la-sala-beckett
END:VEVENT
BEGIN:VTIMEZONE
TZID:Europe/Madrid
X-LIC-LOCATION:Europe/Madrid
BEGIN:DAYLIGHT
DTSTART;VALUE=DATE-TIME:20230326T030000
TZNAME:CEST
TZOFFSETFROM:+0100
TZOFFSETTO:+0200
END:DAYLIGHT
END:VTIMEZONE
END:VCALENDAR
