BEGIN:VCALENDAR
VERSION:2.0
PRODID:-//Plone.org//NONSGML plone.app.event//EN
X-WR-TIMEZONE:Europe/Madrid
BEGIN:VEVENT
SUMMARY:Alimentación saludable. Actívate en el Casal 2022-2023
DTSTART;TZID=Europe/Madrid;VALUE=DATE-TIME:20230503T180000
DTEND;TZID=Europe/Madrid;VALUE=DATE-TIME:20230503T200000
DTSTAMP;VALUE=DATE-TIME:20260422T134101Z
UID:40101f2ea7d446999cbf1f324329099d@www.paeria.cat
CATEGORIES:Mujer,Salud,Talleres y cursos
CREATED;VALUE=DATE-TIME:20221212T125203Z
DESCRIPTION:Demostraciones culinarias para la promoción de pautas aliment
 arias saludables\, de los productos de proximidad\, consumo responsable y 
 una cocina al alcance de todas las personas.
LAST-MODIFIED;VALUE=DATE-TIME:20240509T071251Z
URL:https://www.paeria.cat/es/actualidad/agenda/alimentacion-saludable-act
 ivate-en-el-casal-2022-2023/2023-05-03
END:VEVENT
BEGIN:VTIMEZONE
TZID:Europe/Madrid
X-LIC-LOCATION:Europe/Madrid
BEGIN:DAYLIGHT
DTSTART;VALUE=DATE-TIME:20230326T030000
TZNAME:CEST
TZOFFSETFROM:+0100
TZOFFSETTO:+0200
END:DAYLIGHT
END:VTIMEZONE
END:VCALENDAR
