BEGIN:VCALENDAR
VERSION:2.0
PRODID:-//Plone.org//NONSGML plone.app.event//EN
X-WR-TIMEZONE:Europe/Madrid
BEGIN:VEVENT
SUMMARY:Alimentación saludable. Actívate en el Casal 2022-2023
DTSTART;TZID=Europe/Madrid;VALUE=DATE-TIME:20221214T180000
DTEND;TZID=Europe/Madrid;VALUE=DATE-TIME:20221214T200000
DTSTAMP;VALUE=DATE-TIME:20260422T223134Z
UID:40101f2ea7d446999cbf1f324329099d@www.paeria.cat
RRULE:FREQ=WEEKLY;UNTIL=20230504T000000;BYDAY=WE
RDATE;TZID=Europe/Madrid:20230503T000000
EXDATE;TZID=Europe/Madrid:20221221T000000,20221228T000000,20230104T000000,
 20230118T000000,20230125T000000,20230208T000000,20230215T000000,20230222T0
 00000,20230308T000000,20230315T000000,20230322T000000,20230329T000000,2023
 0405T000000,20230419T000000,20230426T000000
CATEGORIES:Mujer,Salud,Talleres y cursos
CREATED;VALUE=DATE-TIME:20221212T125203Z
DESCRIPTION:Demostraciones culinarias para la promoción de pautas aliment
 arias saludables\, de los productos de proximidad\, consumo responsable y 
 una cocina al alcance de todas las personas.
LAST-MODIFIED;VALUE=DATE-TIME:20240509T071251Z
URL:https://www.paeria.cat/es/actualidad/agenda/alimentacion-saludable-act
 ivate-en-el-casal-2022-2023
END:VEVENT
BEGIN:VTIMEZONE
TZID:Europe/Madrid
X-LIC-LOCATION:Europe/Madrid
BEGIN:STANDARD
DTSTART;VALUE=DATE-TIME:20221030T020000
TZNAME:CET
TZOFFSETFROM:+0200
TZOFFSETTO:+0100
END:STANDARD
END:VTIMEZONE
END:VCALENDAR
