BEGIN:VCALENDAR
VERSION:2.0
PRODID:-//Plone.org//NONSGML plone.app.event//EN
X-WR-TIMEZONE:Europe/Madrid
BEGIN:VEVENT
SUMMARY:Anillamiento de pájaros en el Parc de la Mitjana
DTSTART;TZID=Europe/Madrid;VALUE=DATE-TIME:20250803T100000
DTEND;TZID=Europe/Madrid;VALUE=DATE-TIME:20250803T110000
DTSTAMP;VALUE=DATE-TIME:20260422T113419Z
UID:7958755e6fbb49139fe10130911d929f@www.paeria.cat
CATEGORIES:Todos los públicos
CREATED;VALUE=DATE-TIME:20250509T120337Z
LAST-MODIFIED;VALUE=DATE-TIME:20250728T092805Z
URL:https://www.paeria.cat/es/actualidad/agenda/anillamiento-de-pajaros-en
 -el-parc-de-la-mitjana-1
END:VEVENT
BEGIN:VTIMEZONE
TZID:Europe/Madrid
X-LIC-LOCATION:Europe/Madrid
BEGIN:DAYLIGHT
DTSTART;VALUE=DATE-TIME:20250330T030000
TZNAME:CEST
TZOFFSETFROM:+0100
TZOFFSETTO:+0200
END:DAYLIGHT
END:VTIMEZONE
END:VCALENDAR
