BEGIN:VCALENDAR
VERSION:2.0
PRODID:-//Plone.org//NONSGML plone.app.event//EN
X-WR-TIMEZONE:Europe/Madrid
BEGIN:VEVENT
SUMMARY:Anillamiento de pájaros en el Parc de la Mitjana
DTSTART;TZID=Europe/Madrid;VALUE=DATE-TIME:20251221T110000
DTEND;TZID=Europe/Madrid;VALUE=DATE-TIME:20251221T120000
DTSTAMP;VALUE=DATE-TIME:20260420T222337Z
UID:c1661428a16b4af490ff691b635e161e@www.paeria.cat
CATEGORIES:Todos los públicos
CREATED;VALUE=DATE-TIME:20251027T083846Z
DESCRIPTION:Ecoactividades 2025
LAST-MODIFIED;VALUE=DATE-TIME:20251215T102529Z
URL:https://www.paeria.cat/es/actualidad/agenda/anillamiento-de-pajaros-en
 -el-parc-de-la-mitjana-2
END:VEVENT
BEGIN:VTIMEZONE
TZID:Europe/Madrid
X-LIC-LOCATION:Europe/Madrid
BEGIN:STANDARD
DTSTART;VALUE=DATE-TIME:20251026T020000
TZNAME:CET
TZOFFSETFROM:+0200
TZOFFSETTO:+0100
END:STANDARD
END:VTIMEZONE
END:VCALENDAR
