BEGIN:VCALENDAR
VERSION:2.0
PRODID:-//Plone.org//NONSGML plone.app.event//EN
X-WR-TIMEZONE:Europe/Madrid
BEGIN:VEVENT
SUMMARY:Anillamiento de pájaros en el Parc de la Mitjana
DTSTART;TZID=Europe/Madrid;VALUE=DATE-TIME:20250720T100000
DTEND;TZID=Europe/Madrid;VALUE=DATE-TIME:20250720T110000
DTSTAMP;VALUE=DATE-TIME:20260420T045811Z
UID:0513ba4c5c4040c59537e5ac10eed8c2@www.paeria.cat
CATEGORIES:Todos los públicos
CREATED;VALUE=DATE-TIME:20250509T115746Z
LAST-MODIFIED;VALUE=DATE-TIME:20250714T093030Z
URL:https://www.paeria.cat/es/actualidad/agenda/anillamiento-de-pajaros-en
 -el-parc-de-la-mitjana
END:VEVENT
BEGIN:VTIMEZONE
TZID:Europe/Madrid
X-LIC-LOCATION:Europe/Madrid
BEGIN:DAYLIGHT
DTSTART;VALUE=DATE-TIME:20250330T030000
TZNAME:CEST
TZOFFSETFROM:+0100
TZOFFSETTO:+0200
END:DAYLIGHT
END:VTIMEZONE
END:VCALENDAR
