BEGIN:VCALENDAR
VERSION:2.0
PRODID:-//Plone.org//NONSGML plone.app.event//EN
X-WR-TIMEZONE:Europe/Madrid
BEGIN:VEVENT
SUMMARY:Anillamiento de pájaros en los Humedales de Rufea
DTSTART;TZID=Europe/Madrid;VALUE=DATE-TIME:20250921T090000
DTEND;TZID=Europe/Madrid;VALUE=DATE-TIME:20250921T113000
DTSTAMP;VALUE=DATE-TIME:20260422T113438Z
UID:04e38d216d6742fe832724407a318bf4@www.paeria.cat
CATEGORIES:Todos los públicos
CREATED;VALUE=DATE-TIME:20250818T101050Z
DESCRIPTION:Ecoactividades 2025
LAST-MODIFIED;VALUE=DATE-TIME:20250818T102610Z
URL:https://www.paeria.cat/es/actualidad/agenda/anillamiento-de-pajaros-en
 -los-humedales-de-rufea-2
END:VEVENT
BEGIN:VTIMEZONE
TZID:Europe/Madrid
X-LIC-LOCATION:Europe/Madrid
BEGIN:DAYLIGHT
DTSTART;VALUE=DATE-TIME:20250330T030000
TZNAME:CEST
TZOFFSETFROM:+0100
TZOFFSETTO:+0200
END:DAYLIGHT
END:VTIMEZONE
END:VCALENDAR
