BEGIN:VCALENDAR
VERSION:2.0
PRODID:-//Plone.org//NONSGML plone.app.event//EN
X-WR-TIMEZONE:Europe/Madrid
BEGIN:VEVENT
SUMMARY:Artem Kuznetsov\, piano. Concierto inaugural 4th Ricard Viñes pia
 no kids and youth
DTSTART;TZID=Europe/Madrid;VALUE=DATE-TIME:20240627T200000
DTEND;TZID=Europe/Madrid;VALUE=DATE-TIME:20240627T210000
DTSTAMP;VALUE=DATE-TIME:20260422T134532Z
UID:d54efb5d932e428999d146abcf5245c3@www.paeria.cat
CATEGORIES:Cultura,Público,Música
CREATED;VALUE=DATE-TIME:20240408T084202Z
DESCRIPTION:Ganador del Segundo Premio en el Concurso Internacional de Pia
 no Ricard Viñes 2023 vuelve a Lleida para inaugurar la 4a edición del Co
 ncurso para niños y jóvenes
LAST-MODIFIED;VALUE=DATE-TIME:20260415T085847Z
URL:https://www.paeria.cat/es/actualidad/agenda/artem-kuznetsov-piano-conc
 ierto-inaugural-4th-ricard-vines-piano-kids-and-youth
END:VEVENT
BEGIN:VTIMEZONE
TZID:Europe/Madrid
X-LIC-LOCATION:Europe/Madrid
BEGIN:DAYLIGHT
DTSTART;VALUE=DATE-TIME:20240331T030000
TZNAME:CEST
TZOFFSETFROM:+0100
TZOFFSETTO:+0200
END:DAYLIGHT
END:VTIMEZONE
END:VCALENDAR
