BEGIN:VCALENDAR
VERSION:2.0
PRODID:-//Plone.org//NONSGML plone.app.event//EN
X-WR-TIMEZONE:Europe/Madrid
BEGIN:VEVENT
SUMMARY:AUDIENCIA PÚBLICA DEL PLENARIO DE LOS NIÑOS \, NIÑAS Y ADOLESCE
 NTES DE LA CIUDAD DE LLEIDA
DTSTART;TZID=Europe/Madrid;VALUE=DATE-TIME:20230613T100000
DTEND;TZID=Europe/Madrid;VALUE=DATE-TIME:20230613T113000
DTSTAMP;VALUE=DATE-TIME:20260422T170513Z
UID:b243ef780fec4f9f83fb0dec3a7b38f4@www.paeria.cat
CREATED;VALUE=DATE-TIME:20230612T131013Z
DESCRIPTION:El martes 13 de junio se celebrará la Audiencia del Plenario 
 de niños\, niñas y adolescentes de Lleida. El acto será de 10:00 ha 11:
 30 h\, donde participarán los y las diferentes representantes del Consejo
  de niños y jóvenes para explicar el trabajo realizado este curso 2022-2
 3. La ciudadanía podrá seguirlo en directo por el canal de youtube de la
  Paeria.
LAST-MODIFIED;VALUE=DATE-TIME:20230612T131039Z
URL:https://www.paeria.cat/es/actualidad/agenda/audiencia-publica-del-plen
 ario-de-los-ninos-ninas-y-adolescentes-de-la-ciudad-de-lleida
END:VEVENT
BEGIN:VTIMEZONE
TZID:Europe/Madrid
X-LIC-LOCATION:Europe/Madrid
BEGIN:DAYLIGHT
DTSTART;VALUE=DATE-TIME:20230326T030000
TZNAME:CEST
TZOFFSETFROM:+0100
TZOFFSETTO:+0200
END:DAYLIGHT
END:VTIMEZONE
END:VCALENDAR
