BEGIN:VCALENDAR
VERSION:2.0
PRODID:-//Plone.org//NONSGML plone.app.event//EN
X-WR-TIMEZONE:Europe/Madrid
BEGIN:VEVENT
SUMMARY:BARRIO NOGUEROLA: PODER POPULAR ANTIFASCISTA 1936-1938
DTSTART;TZID=Europe/Madrid;VALUE=DATE-TIME:20260315T100000
DTEND;TZID=Europe/Madrid;VALUE=DATE-TIME:20260315T120000
DTSTAMP;VALUE=DATE-TIME:20260422T192617Z
UID:6e73c9665a7f4ff7943c4030989504dc@www.paeria.cat
CREATED;VALUE=DATE-TIME:20260306T120421Z
DESCRIPTION:El próximo domingo 15 de marzo\, a las 10:00 h\, tendrá luga
 r una nueva edición de los Itinerarios para la Recuperación de la Memori
 a Democrática de Lleida\, una iniciativa que tiene por objetivo preservar
 \, difundir y dignificar la memoria histórica de la ciudad. Este Itinerar
 io será conducido por Eva Lega Vidal.
LAST-MODIFIED;VALUE=DATE-TIME:20260306T120818Z
URL:https://www.paeria.cat/es/actualidad/agenda/barrio-noguerola-poder-pop
 ular-antifascista-1936-1938
END:VEVENT
BEGIN:VTIMEZONE
TZID:Europe/Madrid
X-LIC-LOCATION:Europe/Madrid
BEGIN:STANDARD
DTSTART;VALUE=DATE-TIME:20251026T020000
TZNAME:CET
TZOFFSETFROM:+0200
TZOFFSETTO:+0100
END:STANDARD
END:VTIMEZONE
END:VCALENDAR
