BEGIN:VCALENDAR
VERSION:2.0
PRODID:-//Plone.org//NONSGML plone.app.event//EN
X-WR-TIMEZONE:Europe/Madrid
BEGIN:VEVENT
SUMMARY:BSUM 10 años: concierto de aniversario
DTSTART;TZID=Europe/Madrid;VALUE=DATE-TIME:20240519T190000
DTEND;TZID=Europe/Madrid;VALUE=DATE-TIME:20240519T203000
DTSTAMP;VALUE=DATE-TIME:20260423T052032Z
UID:7cd138aa59f3465b97f1edb878ad7b94@www.paeria.cat
CATEGORIES:Todos los públicos,Música,Cultura
CREATED;VALUE=DATE-TIME:20240129T121615Z
DESCRIPTION:La banda sinfónica unión musical de lleida está de celebrac
 ión
LAST-MODIFIED;VALUE=DATE-TIME:20260202T130048Z
URL:https://www.paeria.cat/es/actualidad/agenda/bsum-10-anos-concierto-de-
 aniversario
END:VEVENT
BEGIN:VTIMEZONE
TZID:Europe/Madrid
X-LIC-LOCATION:Europe/Madrid
BEGIN:DAYLIGHT
DTSTART;VALUE=DATE-TIME:20240331T030000
TZNAME:CEST
TZOFFSETFROM:+0100
TZOFFSETTO:+0200
END:DAYLIGHT
END:VTIMEZONE
END:VCALENDAR
