BEGIN:VCALENDAR
VERSION:2.0
PRODID:-//Plone.org//NONSGML plone.app.event//EN
X-WR-TIMEZONE:Europe/Madrid
BEGIN:VEVENT
SUMMARY:CAFÈ CURT:  VERITAT?
DTSTART;TZID=Europe/Madrid;VALUE=DATE-TIME:20250226T203000
DTEND;TZID=Europe/Madrid;VALUE=DATE-TIME:20250226T213000
DTSTAMP;VALUE=DATE-TIME:20260419T191731Z
UID:106ca3df8daa4a10b2f967b98bcb57f7@www.paeria.cat
CATEGORIES:Audiovisuales,Público
CREATED;VALUE=DATE-TIME:20250225T070612Z
LAST-MODIFIED;VALUE=DATE-TIME:20250225T121657Z
URL:https://www.paeria.cat/es/actualidad/agenda/cafe-curt-veritat
END:VEVENT
BEGIN:VTIMEZONE
TZID:Europe/Madrid
X-LIC-LOCATION:Europe/Madrid
BEGIN:STANDARD
DTSTART;VALUE=DATE-TIME:20241027T020000
TZNAME:CET
TZOFFSETFROM:+0200
TZOFFSETTO:+0100
END:STANDARD
END:VTIMEZONE
END:VCALENDAR
