BEGIN:VCALENDAR
VERSION:2.0
PRODID:-//Plone.org//NONSGML plone.app.event//EN
X-WR-TIMEZONE:Europe/Madrid
BEGIN:VEVENT
SUMMARY:Caminar es hacer salud: Marcha nórdica por el Parque del Agua
DTSTART;TZID=Europe/Madrid;VALUE=DATE-TIME:20240510T093000
DTSTAMP;VALUE=DATE-TIME:20260422T190241Z
UID:85801f1628a0422da2a1a35b89a730b5@www.paeria.cat
CREATED;VALUE=DATE-TIME:20240328T130325Z
DESCRIPTION:9.30h Salida desde el Edificio Montepío (Av. Madrid\, 2)
LAST-MODIFIED;VALUE=DATE-TIME:20240328T130332Z
URL:https://www.paeria.cat/es/actualidad/agenda/caminar-es-hacer-salud-mar
 cha-nordica-por-el-parque-del-agua
END:VEVENT
BEGIN:VTIMEZONE
TZID:Europe/Madrid
X-LIC-LOCATION:Europe/Madrid
BEGIN:DAYLIGHT
DTSTART;VALUE=DATE-TIME:20240331T030000
TZNAME:CEST
TZOFFSETFROM:+0100
TZOFFSETTO:+0200
END:DAYLIGHT
END:VTIMEZONE
END:VCALENDAR
