BEGIN:VCALENDAR
VERSION:2.0
PRODID:-//Plone.org//NONSGML plone.app.event//EN
X-WR-TIMEZONE:Europe/Madrid
BEGIN:VEVENT
SUMMARY:Caminar es hacer salud: Sierra de la Bordeta
DTSTART;TZID=Europe/Madrid;VALUE=DATE-TIME:20240503T093000
DTSTAMP;VALUE=DATE-TIME:20260422T200217Z
UID:c7647f40a02e41539170289883b6361f@www.paeria.cat
CREATED;VALUE=DATE-TIME:20240328T123342Z
DESCRIPTION:9.30h Salida desde el CAP de la Bordeta (C. Boque\, s/n)
LAST-MODIFIED;VALUE=DATE-TIME:20240328T123348Z
URL:https://www.paeria.cat/es/actualidad/agenda/caminar-es-hacer-salud-sie
 rra-de-la-bordeta
END:VEVENT
BEGIN:VTIMEZONE
TZID:Europe/Madrid
X-LIC-LOCATION:Europe/Madrid
BEGIN:DAYLIGHT
DTSTART;VALUE=DATE-TIME:20240331T030000
TZNAME:CEST
TZOFFSETFROM:+0100
TZOFFSETTO:+0200
END:DAYLIGHT
END:VTIMEZONE
END:VCALENDAR
