BEGIN:VCALENDAR
VERSION:2.0
PRODID:-//Plone.org//NONSGML plone.app.event//EN
X-WR-TIMEZONE:Europe/Madrid
BEGIN:VEVENT
SUMMARY:Caminar es hacer salud: Turó de la Seu Vella - Ruta saludable Cen
 tro Histórico
DTSTART;TZID=Europe/Madrid;VALUE=DATE-TIME:20240517T093000
DTSTAMP;VALUE=DATE-TIME:20260423T073331Z
UID:98ca7774171a4d338734425571ce597a@www.paeria.cat
CREATED;VALUE=DATE-TIME:20240328T124411Z
DESCRIPTION:9.30h Salida desde la entrada de Camps Elisis (Av. de les Garr
 igues)
LAST-MODIFIED;VALUE=DATE-TIME:20240513T105454Z
URL:https://www.paeria.cat/es/actualidad/agenda/caminar-es-hacer-salud-tur
 o-de-la-seu-vella-ruta-saludable-centro-historico
END:VEVENT
BEGIN:VTIMEZONE
TZID:Europe/Madrid
X-LIC-LOCATION:Europe/Madrid
BEGIN:DAYLIGHT
DTSTART;VALUE=DATE-TIME:20240331T030000
TZNAME:CEST
TZOFFSETFROM:+0100
TZOFFSETTO:+0200
END:DAYLIGHT
END:VTIMEZONE
END:VCALENDAR
