BEGIN:VCALENDAR
VERSION:2.0
PRODID:-//Plone.org//NONSGML plone.app.event//EN
X-WR-TIMEZONE:Europe/Madrid
BEGIN:VEVENT
SUMMARY:Caminar es hacer salud. Del Arborétum a la Partida Montcada
DTSTART;TZID=Europe/Madrid;VALUE=DATE-TIME:20240405T093000
DTSTAMP;VALUE=DATE-TIME:20260422T114014Z
UID:ccf48d6ab9f74782b03d1e300e1e8cd8@www.paeria.cat
CREATED;VALUE=DATE-TIME:20240328T113537Z
DESCRIPTION:9.30h Salida desde el Pabellón Onze de Setembre. Recorrido ad
 aptado
LAST-MODIFIED;VALUE=DATE-TIME:20240402T092225Z
URL:https://www.paeria.cat/es/actualidad/agenda/caminar-es-salud-del-arbor
 etum-a-la-partida-montcada
END:VEVENT
BEGIN:VTIMEZONE
TZID:Europe/Madrid
X-LIC-LOCATION:Europe/Madrid
BEGIN:DAYLIGHT
DTSTART;VALUE=DATE-TIME:20240331T030000
TZNAME:CEST
TZOFFSETFROM:+0100
TZOFFSETTO:+0200
END:DAYLIGHT
END:VTIMEZONE
END:VCALENDAR
