BEGIN:VCALENDAR
VERSION:2.0
PRODID:-//Plone.org//NONSGML plone.app.event//EN
X-WR-TIMEZONE:Europe/Madrid
BEGIN:VEVENT
SUMMARY:Caminata por el camino del río y los Aiguamolls de Rufea
DTSTART;TZID=Europe/Madrid;VALUE=DATE-TIME:20260322T093000
DTEND;TZID=Europe/Madrid;VALUE=DATE-TIME:20260322T133000
DTSTAMP;VALUE=DATE-TIME:20260422T223134Z
UID:ab95e5d9de6b461796e2d6b42f098d2c@www.paeria.cat
CATEGORIES:Itinerarios y visitas,Deportes,Todos los públicos,Sostenibilid
 ad
CREATED;VALUE=DATE-TIME:20260302T130038Z
DESCRIPTION:Ecoactividades 2026
LAST-MODIFIED;VALUE=DATE-TIME:20260311T134801Z
URL:https://www.paeria.cat/es/actualidad/agenda/caminata-por-el-camino-del
 -rio-y-los-aiguamolls-de-rufea
END:VEVENT
BEGIN:VTIMEZONE
TZID:Europe/Madrid
X-LIC-LOCATION:Europe/Madrid
BEGIN:STANDARD
DTSTART;VALUE=DATE-TIME:20251026T020000
TZNAME:CET
TZOFFSETFROM:+0200
TZOFFSETTO:+0100
END:STANDARD
END:VTIMEZONE
END:VCALENDAR
