BEGIN:VCALENDAR
VERSION:2.0
PRODID:-//Plone.org//NONSGML plone.app.event//EN
X-WR-TIMEZONE:Europe/Madrid
BEGIN:VEVENT
SUMMARY:Campaña por el Día Mundial de la Justicia Social
DTSTART;TZID=Europe/Madrid;VALUE=DATE-TIME:20240220T120000
DTEND;TZID=Europe/Madrid;VALUE=DATE-TIME:20240227T130000
DTSTAMP;VALUE=DATE-TIME:20260422T190245Z
UID:ae25ac83e44b4c02be1b835f1db85420@www.paeria.cat
CATEGORIES:Ciudadanía,Días señalados
CREATED;VALUE=DATE-TIME:20240220T140020Z
DESCRIPTION:Un 20 de febrero reivindicativo de la ciudad de Lleida a favor
  de los derechos de todas
LAST-MODIFIED;VALUE=DATE-TIME:20240307T125520Z
URL:https://www.paeria.cat/es/actualidad/agenda/campana-por-el-dia-mundial
 -de-la-justicia-social
END:VEVENT
BEGIN:VTIMEZONE
TZID:Europe/Madrid
X-LIC-LOCATION:Europe/Madrid
BEGIN:STANDARD
DTSTART;VALUE=DATE-TIME:20231029T020000
TZNAME:CET
TZOFFSETFROM:+0200
TZOFFSETTO:+0100
END:STANDARD
END:VTIMEZONE
END:VCALENDAR
