BEGIN:VCALENDAR
VERSION:2.0
PRODID:-//Plone.org//NONSGML plone.app.event//EN
X-WR-TIMEZONE:Europe/Madrid
BEGIN:VEVENT
SUMMARY:Carmina Burana. Coro de Cámara del Auditorio Enric Granados & Ban
 da Sinfónica Unió Musical de Lleida
DTSTART;TZID=Europe/Madrid;VALUE=DATE-TIME:20260517T190000
DTEND;TZID=Europe/Madrid;VALUE=DATE-TIME:20260517T203000
DTSTAMP;VALUE=DATE-TIME:20260422T101749Z
UID:7a21787632c8481d95a058bee0845162@www.paeria.cat
CREATED;VALUE=DATE-TIME:20251124T140140Z
LAST-MODIFIED;VALUE=DATE-TIME:20260414T120421Z
URL:https://www.paeria.cat/es/actualidad/agenda/carmina-burana-coro-de-cam
 ara-del-auditorio-enric-granados-banda-sinfonica-unio-musical-de-lleida
END:VEVENT
BEGIN:VTIMEZONE
TZID:Europe/Madrid
X-LIC-LOCATION:Europe/Madrid
BEGIN:DAYLIGHT
DTSTART;VALUE=DATE-TIME:20260329T030000
TZNAME:CEST
TZOFFSETFROM:+0100
TZOFFSETTO:+0200
END:DAYLIGHT
END:VTIMEZONE
END:VCALENDAR
