BEGIN:VCALENDAR
VERSION:2.0
PRODID:-//Plone.org//NONSGML plone.app.event//EN
X-WR-TIMEZONE:Europe/Madrid
BEGIN:VEVENT
SUMMARY:CARTAS ESCONDIDAS. (DE CUANDO LA RADIO QUERÍA HACER OLVIDAR EL EX
 ILIO REPUBLICANO)
DTSTART;TZID=Europe/Madrid;VALUE=DATE-TIME:20240709T183000
DTSTAMP;VALUE=DATE-TIME:20260422T103443Z
UID:7b5b1eaeae794b48b3bffa48d794d449@www.paeria.cat
CATEGORIES:Charlas y conferencias,Todos los públicos
CREATED;VALUE=DATE-TIME:20240708T084820Z
DESCRIPTION:Espectáculo de música y textos.
LAST-MODIFIED;VALUE=DATE-TIME:20240708T084835Z
URL:https://www.paeria.cat/es/actualidad/agenda/cartas-escondidas-de-cuand
 o-la-radio-queria-hacer-olvidar-el-exilio-republicano
END:VEVENT
BEGIN:VTIMEZONE
TZID:Europe/Madrid
X-LIC-LOCATION:Europe/Madrid
BEGIN:DAYLIGHT
DTSTART;VALUE=DATE-TIME:20240331T030000
TZNAME:CEST
TZOFFSETFROM:+0100
TZOFFSETTO:+0200
END:DAYLIGHT
END:VTIMEZONE
END:VCALENDAR
