BEGIN:VCALENDAR
VERSION:2.0
PRODID:-//Plone.org//NONSGML plone.app.event//EN
X-WR-TIMEZONE:Europe/Madrid
BEGIN:VEVENT
SUMMARY:CASTILLO DE GARDENY. TEMPLARIO POR UN DÍA
DTSTART;TZID=Europe/Madrid;VALUE=DATE-TIME:20250713T120000
DTEND;TZID=Europe/Madrid;VALUE=DATE-TIME:20250713T133000
DTSTAMP;VALUE=DATE-TIME:20260422T113420Z
UID:a0edd218a85a4b4b8b75bf9b44cd2c13@www.paeria.cat
CREATED;VALUE=DATE-TIME:20250625T090305Z
DESCRIPTION:Visita guiada participativa para descubrir la vida de los temp
 larios en la colina de Gardeny. Una forma divertida de conocer la historia
  de Lleida recorriendo las estancias del castillo y contribuyendo activame
 nte en la misma.
LAST-MODIFIED;VALUE=DATE-TIME:20260206T131245Z
URL:https://www.paeria.cat/es/actualidad/agenda/castillo-de-gardeny-templa
 rio-por-un-dia-1
END:VEVENT
BEGIN:VTIMEZONE
TZID:Europe/Madrid
X-LIC-LOCATION:Europe/Madrid
BEGIN:DAYLIGHT
DTSTART;VALUE=DATE-TIME:20250330T030000
TZNAME:CEST
TZOFFSETFROM:+0100
TZOFFSETTO:+0200
END:DAYLIGHT
END:VTIMEZONE
END:VCALENDAR
