BEGIN:VCALENDAR
VERSION:2.0
PRODID:-//Plone.org//NONSGML plone.app.event//EN
X-WR-TIMEZONE:Europe/Madrid
BEGIN:VEVENT
SUMMARY:CASTILLO DE GARDENY. TEMPLARIO POR UN DÍA
DTSTART;TZID=Europe/Madrid;VALUE=DATE-TIME:20260208T120000
DTEND;TZID=Europe/Madrid;VALUE=DATE-TIME:20260208T133000
DTSTAMP;VALUE=DATE-TIME:20260422T150336Z
UID:720e21bbf10b4cb09d19c6a0203743b4@www.paeria.cat
CREATED;VALUE=DATE-TIME:20250418T102759Z
DESCRIPTION:Visita guiada participativa.
LAST-MODIFIED;VALUE=DATE-TIME:20260213T130321Z
URL:https://www.paeria.cat/es/actualidad/agenda/castillo-de-gardeny-temple
 -por-un-dia/2026-02-08
END:VEVENT
BEGIN:VTIMEZONE
TZID:Europe/Madrid
X-LIC-LOCATION:Europe/Madrid
BEGIN:STANDARD
DTSTART;VALUE=DATE-TIME:20251026T020000
TZNAME:CET
TZOFFSETFROM:+0200
TZOFFSETTO:+0100
END:STANDARD
END:VTIMEZONE
END:VCALENDAR
