BEGIN:VCALENDAR
VERSION:2.0
PRODID:-//Plone.org//NONSGML plone.app.event//EN
X-WR-TIMEZONE:Europe/Madrid
BEGIN:VEVENT
SUMMARY:Celebración del Día Mundial de la Poesía y el Día Mundial del 
 Síndrome de Down
DTSTART;TZID=Europe/Madrid;VALUE=DATE-TIME:20240321T180000
DTSTAMP;VALUE=DATE-TIME:20260423T003603Z
UID:c385f8824a544655881a309befe4a013@www.paeria.cat
CATEGORIES:Cultura
CREATED;VALUE=DATE-TIME:20240310T150821Z
LAST-MODIFIED;VALUE=DATE-TIME:20240310T150827Z
URL:https://www.paeria.cat/es/actualidad/agenda/celebracion-del-dia-mundia
 l-de-la-poesia-y-el-dia-mundial-del-sindrome-de-down
END:VEVENT
BEGIN:VTIMEZONE
TZID:Europe/Madrid
X-LIC-LOCATION:Europe/Madrid
BEGIN:STANDARD
DTSTART;VALUE=DATE-TIME:20231029T020000
TZNAME:CET
TZOFFSETFROM:+0200
TZOFFSETTO:+0100
END:STANDARD
END:VTIMEZONE
END:VCALENDAR
