BEGIN:VCALENDAR
VERSION:2.0
PRODID:-//Plone.org//NONSGML plone.app.event//EN
X-WR-TIMEZONE:Europe/Madrid
BEGIN:VEVENT
SUMMARY:CENA SOLIDARIA DE LA ONG SUPERANDO FRONTERAS
DTSTART;TZID=Europe/Madrid;VALUE=DATE-TIME:20240606T203000
DTEND;TZID=Europe/Madrid;VALUE=DATE-TIME:20240607T003000
DTSTAMP;VALUE=DATE-TIME:20260419T234216Z
UID:0a516e2930844b5ea1eefd134d27d82d@www.paeria.cat
CATEGORIES:Ciudadanía
CREATED;VALUE=DATE-TIME:20240517T124430Z
DESCRIPTION:Beneficios destinados al proyecto Garbinada 2024\, por el Dere
 cho a la Salud de Mujeres e infancia en Gambia. \nFecha y hora: 6 de junio
  a las 20:30 h. \nEspacio: Patio de la Panera \nPrecio/Donación: 45€/pe
 rsona. Se puede formalizar por BIZUM - 08964 o transferencia bancaria a Ca
 ixa Guissona - ES73 3140 0001 9100 1615 4300. Indicar nombre\, apellido y 
 núm. de teléfono. También hay una FILA 0 para quienes no puedan asistir
  y quieran colaborar haciendo la misma aportación.
LAST-MODIFIED;VALUE=DATE-TIME:20250514T114140Z
URL:https://www.paeria.cat/es/actualidad/agenda/cena-solidaria-de-la-ong-s
 uperando-fronteras
END:VEVENT
BEGIN:VTIMEZONE
TZID:Europe/Madrid
X-LIC-LOCATION:Europe/Madrid
BEGIN:DAYLIGHT
DTSTART;VALUE=DATE-TIME:20240331T030000
TZNAME:CEST
TZOFFSETFROM:+0100
TZOFFSETTO:+0200
END:DAYLIGHT
END:VTIMEZONE
END:VCALENDAR
