BEGIN:VCALENDAR
VERSION:2.0
PRODID:-//Plone.org//NONSGML plone.app.event//EN
X-WR-TIMEZONE:Europe/Madrid
BEGIN:VEVENT
SUMMARY:Charla- Adriana Lecouvreur de Francesco Cilea. Entre Verdi y Pucci
 ni\, un genio escondido
DTSTART;TZID=Europe/Madrid;VALUE=DATE-TIME:20240528T180000
DTSTAMP;VALUE=DATE-TIME:20260422T100823Z
UID:a0b77cf6f49b44a48e62f0fcce273b53@www.paeria.cat
CATEGORIES:Charlas y conferencias,Música,Cultura
CREATED;VALUE=DATE-TIME:20240527T130942Z
LAST-MODIFIED;VALUE=DATE-TIME:20240527T130948Z
URL:https://www.paeria.cat/es/actualidad/agenda/charla-adriana-lecouvreur-
 de-francesco-cilea-entre-verdi-y-puccini-un-genio-escondido
END:VEVENT
BEGIN:VTIMEZONE
TZID:Europe/Madrid
X-LIC-LOCATION:Europe/Madrid
BEGIN:DAYLIGHT
DTSTART;VALUE=DATE-TIME:20240331T030000
TZNAME:CEST
TZOFFSETFROM:+0100
TZOFFSETTO:+0200
END:DAYLIGHT
END:VTIMEZONE
END:VCALENDAR
