BEGIN:VCALENDAR
VERSION:2.0
PRODID:-//Plone.org//NONSGML plone.app.event//EN
X-WR-TIMEZONE:Europe/Madrid
BEGIN:VEVENT
SUMMARY:Charla- El profesor Oriol de Bolòs: botánico\, académico
DTSTART;TZID=Europe/Madrid;VALUE=DATE-TIME:20241024T180000
DTSTAMP;VALUE=DATE-TIME:20260422T131832Z
UID:18340718fd52494bb04b4cec558fbead@www.paeria.cat
CATEGORIES:Charlas y conferencias,Cultura
CREATED;VALUE=DATE-TIME:20241017T083911Z
LAST-MODIFIED;VALUE=DATE-TIME:20241017T083918Z
URL:https://www.paeria.cat/es/actualidad/agenda/charla-el-profesor-oriol-d
 e-bolos-botanico-academico
END:VEVENT
BEGIN:VTIMEZONE
TZID:Europe/Madrid
X-LIC-LOCATION:Europe/Madrid
BEGIN:DAYLIGHT
DTSTART;VALUE=DATE-TIME:20240331T030000
TZNAME:CEST
TZOFFSETFROM:+0100
TZOFFSETTO:+0200
END:DAYLIGHT
END:VTIMEZONE
END:VCALENDAR
