BEGIN:VCALENDAR
VERSION:2.0
PRODID:-//Plone.org//NONSGML plone.app.event//EN
X-WR-TIMEZONE:Europe/Madrid
BEGIN:VEVENT
SUMMARY:Charla: BÚSQUEDA DE TRABAJO PARA EL VERANO (TURNO TARDE)
DTSTART;TZID=Europe/Madrid;VALUE=DATE-TIME:20250430T170000
DTEND;TZID=Europe/Madrid;VALUE=DATE-TIME:20250430T180000
DTSTAMP;VALUE=DATE-TIME:20260422T102158Z
UID:e3699d6829ad4565a4ebc5a9360e3bc5@www.paeria.cat
CATEGORIES:Jóvenes,Charlas y conferencias
CREATED;VALUE=DATE-TIME:20250312T124558Z
DESCRIPTION:Te ofrecemos todo el soporte necesario para tu búsqueda de tr
 abajo: te ayudaremos a elaborar un currículum vitae efectivo\, a presenta
 r autocandidaturas\, y a utilizar las mejores herramientas y canales de b
 úsqueda. Además\, te proporcionaremos consejos prácticos para facilitar
  tu búsqueda de oportunidades laborales en verano.
LAST-MODIFIED;VALUE=DATE-TIME:20250428T100337Z
URL:https://www.paeria.cat/es/actualidad/agenda/charla-investigacion-de-tr
 abajo-por-el-verano-turno-tarde
END:VEVENT
BEGIN:VTIMEZONE
TZID:Europe/Madrid
X-LIC-LOCATION:Europe/Madrid
BEGIN:DAYLIGHT
DTSTART;VALUE=DATE-TIME:20250330T030000
TZNAME:CEST
TZOFFSETFROM:+0100
TZOFFSETTO:+0200
END:DAYLIGHT
END:VTIMEZONE
END:VCALENDAR
