BEGIN:VCALENDAR
VERSION:2.0
PRODID:-//Plone.org//NONSGML plone.app.event//EN
X-WR-TIMEZONE:Europe/Madrid
BEGIN:VEVENT
SUMMARY:Charlas: LleidaJove en Fira Formaocupa
DTSTART;TZID=Europe/Madrid;VALUE=DATE-TIME:20260226T100000
DTEND;TZID=Europe/Madrid;VALUE=DATE-TIME:20260227T110000
DTSTAMP;VALUE=DATE-TIME:20260422T215023Z
UID:d921f414ffe04b6bb2f4c8e9b6be659e@www.paeria.cat
CATEGORIES:Charlas y conferencias
CREATED;VALUE=DATE-TIME:20260225T164526Z
DESCRIPTION:3 charlas para jóvenes sobre el mundo laboral\, el emprendimi
 ento y la búsqueda de empleo.
LAST-MODIFIED;VALUE=DATE-TIME:20260225T165046Z
URL:https://www.paeria.cat/es/actualidad/agenda/charlas-lleidajove-en-fira
 -formaocupa
END:VEVENT
BEGIN:VTIMEZONE
TZID:Europe/Madrid
X-LIC-LOCATION:Europe/Madrid
BEGIN:STANDARD
DTSTART;VALUE=DATE-TIME:20251026T020000
TZNAME:CET
TZOFFSETFROM:+0200
TZOFFSETTO:+0100
END:STANDARD
END:VTIMEZONE
END:VCALENDAR
