BEGIN:VCALENDAR
VERSION:2.0
PRODID:-//Plone.org//NONSGML plone.app.event//EN
X-WR-TIMEZONE:Europe/Madrid
BEGIN:VEVENT
SUMMARY:Ciclo de cine- Universo Agnès Varda
DTSTART;TZID=Europe/Madrid;VALUE=DATE-TIME:20240805T200000
DTSTAMP;VALUE=DATE-TIME:20260424T153015Z
UID:3b22e045b3e44a20aa253d5172447fe9@www.paeria.cat
CATEGORIES:Audiovisuales,Cultura,Cine y vídeo
CREATED;VALUE=DATE-TIME:20240729T091033Z
LAST-MODIFIED;VALUE=DATE-TIME:20250514T111109Z
URL:https://www.paeria.cat/es/actualidad/agenda/ciclo-de-cine-universo-agn
 es-varda/2024-08-05
END:VEVENT
BEGIN:VTIMEZONE
TZID:Europe/Madrid
X-LIC-LOCATION:Europe/Madrid
BEGIN:DAYLIGHT
DTSTART;VALUE=DATE-TIME:20240331T030000
TZNAME:CEST
TZOFFSETFROM:+0100
TZOFFSETTO:+0200
END:DAYLIGHT
END:VTIMEZONE
END:VCALENDAR
