BEGIN:VCALENDAR
VERSION:2.0
PRODID:-//Plone.org//NONSGML plone.app.event//EN
X-WR-TIMEZONE:Europe/Madrid
BEGIN:VEVENT
SUMMARY:Ciclo de cine- Universo Agnès Varda
DTSTART;TZID=Europe/Madrid;VALUE=DATE-TIME:20240729T200000
DTSTAMP;VALUE=DATE-TIME:20260424T043444Z
UID:3b22e045b3e44a20aa253d5172447fe9@www.paeria.cat
RRULE:FREQ=DAILY;UNTIL=20240827T000000
EXDATE;TZID=Europe/Madrid:20240731T000000,20240801T000000,20240802T000000,
 20240803T000000,20240804T000000,20240807T000000,20240808T000000,20240809T0
 00000,20240810T000000,20240811T000000,20240814T000000,20240815T000000,2024
 0816T000000,20240817T000000,20240818T000000,20240821T000000,20240822T00000
 0,20240823T000000,20240824T000000,20240825T000000
CATEGORIES:Audiovisuales,Cultura,Cine y vídeo
CREATED;VALUE=DATE-TIME:20240729T091033Z
LAST-MODIFIED;VALUE=DATE-TIME:20250514T111109Z
URL:https://www.paeria.cat/es/actualidad/agenda/ciclo-de-cine-universo-agn
 es-varda
END:VEVENT
BEGIN:VTIMEZONE
TZID:Europe/Madrid
X-LIC-LOCATION:Europe/Madrid
BEGIN:DAYLIGHT
DTSTART;VALUE=DATE-TIME:20240331T030000
TZNAME:CEST
TZOFFSETFROM:+0100
TZOFFSETTO:+0200
END:DAYLIGHT
END:VTIMEZONE
END:VCALENDAR
