BEGIN:VCALENDAR
VERSION:2.0
PRODID:-//Plone.org//NONSGML plone.app.event//EN
X-WR-TIMEZONE:Europe/Madrid
BEGIN:VEVENT
SUMMARY:Ciclo de debates feministas- Raíces
DTSTART;TZID=Europe/Madrid;VALUE=DATE-TIME:20241130T120000
DTSTAMP;VALUE=DATE-TIME:20260422T150334Z
UID:1f1f665edd3045878cc4dfa20dda859c@www.paeria.cat
CATEGORIES:Libros y literatura,Cultura,Charlas y conferencias
CREATED;VALUE=DATE-TIME:20240731T150652Z
LAST-MODIFIED;VALUE=DATE-TIME:20240910T074837Z
URL:https://www.paeria.cat/es/actualidad/agenda/ciclo-de-debates-feminista
 s-raices/2024-11-30
END:VEVENT
BEGIN:VTIMEZONE
TZID:Europe/Madrid
X-LIC-LOCATION:Europe/Madrid
BEGIN:STANDARD
DTSTART;VALUE=DATE-TIME:20241027T020000
TZNAME:CET
TZOFFSETFROM:+0200
TZOFFSETTO:+0100
END:STANDARD
END:VTIMEZONE
END:VCALENDAR
