BEGIN:VCALENDAR
VERSION:2.0
PRODID:-//Plone.org//NONSGML plone.app.event//EN
X-WR-TIMEZONE:Europe/Madrid
BEGIN:VEVENT
SUMMARY:Ciencia en el IEI. IA. ¿Seremos los robots o los dueños de los r
 obots?
DTSTART;TZID=Europe/Madrid;VALUE=DATE-TIME:20240409T180000
DTSTAMP;VALUE=DATE-TIME:20260422T170023Z
UID:2c2381a267674d99bb3022bdf75504a0@www.paeria.cat
CATEGORIES:Charlas y conferencias,Cultura
CREATED;VALUE=DATE-TIME:20240313T073033Z
LAST-MODIFIED;VALUE=DATE-TIME:20240313T073040Z
URL:https://www.paeria.cat/es/actualidad/agenda/ciencia-en-el-iei-ia-serem
 os-los-robots-o-los-duenos-de-los-robots/2024-04-09
END:VEVENT
BEGIN:VTIMEZONE
TZID:Europe/Madrid
X-LIC-LOCATION:Europe/Madrid
BEGIN:DAYLIGHT
DTSTART;VALUE=DATE-TIME:20240331T030000
TZNAME:CEST
TZOFFSETFROM:+0100
TZOFFSETTO:+0200
END:DAYLIGHT
END:VTIMEZONE
END:VCALENDAR
