BEGIN:VCALENDAR
VERSION:2.0
PRODID:-//Plone.org//NONSGML plone.app.event//EN
X-WR-TIMEZONE:Europe/Madrid
BEGIN:VEVENT
SUMMARY:Cine al aire libre en Torre Queralt
DTSTART;TZID=Europe/Madrid;VALUE=DATE-TIME:20240719T220000
DTSTAMP;VALUE=DATE-TIME:20260420T084921Z
UID:93af475f84524c65ba18e6885a9fe920@www.paeria.cat
RRULE:FREQ=WEEKLY;UNTIL=20240802T000000
CATEGORIES:Audiovisuales,Cultura,Cine y vídeo
CREATED;VALUE=DATE-TIME:20240717T151848Z
LAST-MODIFIED;VALUE=DATE-TIME:20250514T111109Z
URL:https://www.paeria.cat/es/actualidad/agenda/cine-al-aire-libre-en-torr
 e-queralt
END:VEVENT
BEGIN:VTIMEZONE
TZID:Europe/Madrid
X-LIC-LOCATION:Europe/Madrid
BEGIN:DAYLIGHT
DTSTART;VALUE=DATE-TIME:20240331T030000
TZNAME:CEST
TZOFFSETFROM:+0100
TZOFFSETTO:+0200
END:DAYLIGHT
END:VTIMEZONE
END:VCALENDAR
