BEGIN:VCALENDAR
VERSION:2.0
PRODID:-//Plone.org//NONSGML plone.app.event//EN
X-WR-TIMEZONE:Europe/Madrid
BEGIN:VEVENT
SUMMARY:CINEMÓN 2025 - Cinefórum “El escritor de un país sin librerí
 as”
DTSTART;TZID=Europe/Madrid;VALUE=DATE-TIME:20250619T183000
DTEND;TZID=Europe/Madrid;VALUE=DATE-TIME:20250619T201500
DTSTAMP;VALUE=DATE-TIME:20260423T152607Z
UID:None
CREATED;VALUE=DATE-TIME:20250606T115016Z
DESCRIPTION:Proyección del film El escritor de un país sin librerías (8
 2'\, 2019)\, dentro del Festival Itinerante de Cines Africanos de Cataluñ
 a (FICAC). Un viaje a Guinea Ecuatorial de la mano del escritor Juan Tomá
 s Ávila Laurel\, refugiado en España por su lucha contra la dictadura de
  Obiang. En versión original en castellano y criollo annobonés\, subtitu
 lada en catalán. Con la presencia de Juan Tomás Ávila Laurel\, el activ
 ista José Andombe y moderación del Departamento de Derechos Civiles del 
 Ayuntamiento de Lleida. Es necesaria inscripción previa!!
LAST-MODIFIED;VALUE=DATE-TIME:20250606T115202Z
URL:https://www.paeria.cat/es/actualidad/agenda/cinemon-2025-cineforum-201
 cel-escritor-de-un-pais-sin-librerias201d
END:VEVENT
BEGIN:VTIMEZONE
TZID:Europe/Madrid
X-LIC-LOCATION:Europe/Madrid
BEGIN:DAYLIGHT
DTSTART;VALUE=DATE-TIME:20250330T030000
TZNAME:CEST
TZOFFSETFROM:+0100
TZOFFSETTO:+0200
END:DAYLIGHT
END:VTIMEZONE
END:VCALENDAR
