BEGIN:VCALENDAR
VERSION:2.0
PRODID:-//Plone.org//NONSGML plone.app.event//EN
X-WR-TIMEZONE:Europe/Madrid
BEGIN:VEVENT
SUMMARY:CIRCUITO FOLC- Concierto Momi Maiga
DTSTART;TZID=Europe/Madrid;VALUE=DATE-TIME:20241115T193000
DTSTAMP;VALUE=DATE-TIME:20260423T120947Z
UID:ae565a0aee7f4c6482fc57dd3a2e5717@www.paeria.cat
CATEGORIES:Música,Cultura
CREATED;VALUE=DATE-TIME:20241107T090453Z
LAST-MODIFIED;VALUE=DATE-TIME:20241107T090532Z
URL:https://www.paeria.cat/es/actualidad/agenda/circuito-folc-concierto-mo
 mi-maiga
END:VEVENT
BEGIN:VTIMEZONE
TZID:Europe/Madrid
X-LIC-LOCATION:Europe/Madrid
BEGIN:STANDARD
DTSTART;VALUE=DATE-TIME:20241027T020000
TZNAME:CET
TZOFFSETFROM:+0200
TZOFFSETTO:+0100
END:STANDARD
END:VTIMEZONE
END:VCALENDAR
