BEGIN:VCALENDAR
VERSION:2.0
PRODID:-//Plone.org//NONSGML plone.app.event//EN
X-WR-TIMEZONE:Europe/Madrid
BEGIN:VEVENT
SUMMARY:CLÁSICA ABIERTA- Café concierto con Vestigium
DTSTART;TZID=Europe/Madrid;VALUE=DATE-TIME:20241201T190000
DTSTAMP;VALUE=DATE-TIME:20260423T031235Z
UID:ffca106d78c94d21886e3882d123a1fe@www.paeria.cat
CATEGORIES:Música,Cultura
CREATED;VALUE=DATE-TIME:20241122T101034Z
LAST-MODIFIED;VALUE=DATE-TIME:20241122T101043Z
URL:https://www.paeria.cat/es/actualidad/agenda/clasica-abierta-cafe-conci
 erto-con-vestigium
END:VEVENT
BEGIN:VTIMEZONE
TZID:Europe/Madrid
X-LIC-LOCATION:Europe/Madrid
BEGIN:STANDARD
DTSTART;VALUE=DATE-TIME:20241027T020000
TZNAME:CET
TZOFFSETFROM:+0200
TZOFFSETTO:+0100
END:STANDARD
END:VTIMEZONE
END:VCALENDAR
