BEGIN:VCALENDAR
VERSION:2.0
PRODID:-//Plone.org//NONSGML plone.app.event//EN
X-WR-TIMEZONE:Europe/Madrid
BEGIN:VEVENT
SUMMARY:Clásica abierta- Café concierto Nora Buschmann
DTSTART;TZID=Europe/Madrid;VALUE=DATE-TIME:20241019T200000
DTSTAMP;VALUE=DATE-TIME:20260424T044411Z
UID:7331dc71ec914c6aba77b5f0eea98adc@www.paeria.cat
CATEGORIES:Música,Cultura
CREATED;VALUE=DATE-TIME:20240730T154744Z
LAST-MODIFIED;VALUE=DATE-TIME:20240730T154753Z
URL:https://www.paeria.cat/es/actualidad/agenda/clasica-abierta-cafe-conci
 erto-nora-buschmann
END:VEVENT
BEGIN:VTIMEZONE
TZID:Europe/Madrid
X-LIC-LOCATION:Europe/Madrid
BEGIN:DAYLIGHT
DTSTART;VALUE=DATE-TIME:20240331T030000
TZNAME:CEST
TZOFFSETFROM:+0100
TZOFFSETTO:+0200
END:DAYLIGHT
END:VTIMEZONE
END:VCALENDAR
