BEGIN:VCALENDAR
VERSION:2.0
PRODID:-//Plone.org//NONSGML plone.app.event//EN
X-WR-TIMEZONE:Europe/Madrid
BEGIN:VEVENT
SUMMARY:Club de lectura de La falsa blanca
DTSTART;TZID=Europe/Madrid;VALUE=DATE-TIME:20240618T190000
DTSTAMP;VALUE=DATE-TIME:20260422T214835Z
UID:7134a736f4d5466a83719e4c94adceee@www.paeria.cat
CATEGORIES:Libros y literatura,Cultura
CREATED;VALUE=DATE-TIME:20240617T060314Z
LAST-MODIFIED;VALUE=DATE-TIME:20240617T060321Z
URL:https://www.paeria.cat/es/actualidad/agenda/club-de-lectura-de-la-fals
 a-blanca
END:VEVENT
BEGIN:VTIMEZONE
TZID:Europe/Madrid
X-LIC-LOCATION:Europe/Madrid
BEGIN:DAYLIGHT
DTSTART;VALUE=DATE-TIME:20240331T030000
TZNAME:CEST
TZOFFSETFROM:+0100
TZOFFSETTO:+0200
END:DAYLIGHT
END:VTIMEZONE
END:VCALENDAR
