BEGIN:VCALENDAR
VERSION:2.0
PRODID:-//Plone.org//NONSGML plone.app.event//EN
X-WR-TIMEZONE:Europe/Madrid
BEGIN:VEVENT
SUMMARY:¿Cómo enfoco la búsqueda de empleo si tengo más de 50 años?
DTSTART;TZID=Europe/Madrid;VALUE=DATE-TIME:20260616T103000
DTEND;TZID=Europe/Madrid;VALUE=DATE-TIME:20260616T123000
DTSTAMP;VALUE=DATE-TIME:20260423T122611Z
UID:fdc50343bcd949b19591234343fee87b@www.paeria.cat
CATEGORIES:Charlas y conferencias,Empleo,Talleres y cursos
CREATED;VALUE=DATE-TIME:20260305T111609Z
DESCRIPTION:La edad suele ser un factor que inquieta a las personas que ti
 enen más de 50 años y se encuentran con que deben reincorporarse al merc
 ado laboral. Pero\, ¿cuáles son los estereotipos que se asocian a la eda
 d en el mundo laboral? ¿En qué grado afecta realmente al proceso de inve
 stigación? ¿Cómo poner ese elemento en valor en el mercado laboral? En 
 esta sesión reflexionaremos sobre estas cuestiones de una forma dinámica
  y práctica. Servicio Empleo. Píldoras para la búsqueda de empleo.
LAST-MODIFIED;VALUE=DATE-TIME:20260305T112908Z
URL:https://www.paeria.cat/es/actualidad/agenda/como-enfoco-la-busqueda-de
 -empleo-si-tengo-mas-de-50-anos
END:VEVENT
BEGIN:VTIMEZONE
TZID:Europe/Madrid
X-LIC-LOCATION:Europe/Madrid
BEGIN:DAYLIGHT
DTSTART;VALUE=DATE-TIME:20260329T030000
TZNAME:CEST
TZOFFSETFROM:+0100
TZOFFSETTO:+0200
END:DAYLIGHT
END:VTIMEZONE
END:VCALENDAR
