BEGIN:VCALENDAR
VERSION:2.0
PRODID:-//Plone.org//NONSGML plone.app.event//EN
X-WR-TIMEZONE:Europe/Madrid
BEGIN:VEVENT
SUMMARY:Concierto Angelo + Ella grupo
DTSTART;TZID=Europe/Madrid;VALUE=DATE-TIME:20240628T210000
DTSTAMP;VALUE=DATE-TIME:20260419T165547Z
UID:15674589ede9403cb028b1c1b491a07c@www.paeria.cat
CATEGORIES:Música,Cultura
CREATED;VALUE=DATE-TIME:20240625T154436Z
LAST-MODIFIED;VALUE=DATE-TIME:20240625T154443Z
URL:https://www.paeria.cat/es/actualidad/agenda/concierto-angelo-ella-grup
 o
END:VEVENT
BEGIN:VTIMEZONE
TZID:Europe/Madrid
X-LIC-LOCATION:Europe/Madrid
BEGIN:DAYLIGHT
DTSTART;VALUE=DATE-TIME:20240331T030000
TZNAME:CEST
TZOFFSETFROM:+0100
TZOFFSETTO:+0200
END:DAYLIGHT
END:VTIMEZONE
END:VCALENDAR
