BEGIN:VCALENDAR
VERSION:2.0
PRODID:-//Plone.org//NONSGML plone.app.event//EN
X-WR-TIMEZONE:Europe/Madrid
BEGIN:VEVENT
SUMMARY:Concierto Apel·les Carod\, Ignasi González y Genís Bagés
DTSTART;TZID=Europe/Madrid;VALUE=DATE-TIME:20240322T220000
DTSTAMP;VALUE=DATE-TIME:20260422T200909Z
UID:b9a0303170a6464ca24d73ff2f225e46@www.paeria.cat
CATEGORIES:Música,Cultura
CREATED;VALUE=DATE-TIME:20240223T092931Z
LAST-MODIFIED;VALUE=DATE-TIME:20240223T092948Z
URL:https://www.paeria.cat/es/actualidad/agenda/concierto-apel-les-carod-i
 gnasi-gonzalez-y-genis-bages
END:VEVENT
BEGIN:VTIMEZONE
TZID:Europe/Madrid
X-LIC-LOCATION:Europe/Madrid
BEGIN:STANDARD
DTSTART;VALUE=DATE-TIME:20231029T020000
TZNAME:CET
TZOFFSETFROM:+0200
TZOFFSETTO:+0100
END:STANDARD
END:VTIMEZONE
END:VCALENDAR
