BEGIN:VCALENDAR
VERSION:2.0
PRODID:-//Plone.org//NONSGML plone.app.event//EN
X-WR-TIMEZONE:Europe/Madrid
BEGIN:VEVENT
SUMMARY:Concierto de clausura XX Musiquem Lleida 2025. Cor² Bach & Gjeilo
DTSTART;TZID=Europe/Madrid;VALUE=DATE-TIME:20251005T190000
DTEND;TZID=Europe/Madrid;VALUE=DATE-TIME:20251005T203000
DTSTAMP;VALUE=DATE-TIME:20260422T134757Z
UID:5f9d39aaefa94dee8c1c8e98bce4ac88@www.paeria.cat
CREATED;VALUE=DATE-TIME:20250619T124818Z
LAST-MODIFIED;VALUE=DATE-TIME:20250922T074617Z
URL:https://www.paeria.cat/es/actualidad/agenda/concierto-de-clausura-xx-m
 usiquem-lleida-2025-cor2-bach-gjeilo
END:VEVENT
BEGIN:VTIMEZONE
TZID:Europe/Madrid
X-LIC-LOCATION:Europe/Madrid
BEGIN:DAYLIGHT
DTSTART;VALUE=DATE-TIME:20250330T030000
TZNAME:CEST
TZOFFSETFROM:+0100
TZOFFSETTO:+0200
END:DAYLIGHT
END:VTIMEZONE
END:VCALENDAR
