BEGIN:VCALENDAR
VERSION:2.0
PRODID:-//Plone.org//NONSGML plone.app.event//EN
X-WR-TIMEZONE:Europe/Madrid
BEGIN:VEVENT
SUMMARY:CONCIERTO DE NAVIDAD. "CARMEN". BANDA MUNICIPAL DE LLEIDA
DTSTART;TZID=Europe/Madrid;VALUE=DATE-TIME:20241222T190000
DTEND;TZID=Europe/Madrid;VALUE=DATE-TIME:20241222T203000
DTSTAMP;VALUE=DATE-TIME:20260423T051732Z
UID:0efcb0d290e549299c299859d97b8a47@www.paeria.cat
CREATED;VALUE=DATE-TIME:20240709T111520Z
DESCRIPTION:La Banda Municipal de Lleida y Espai Dansa presentan una adapt
 ación de la ópera Carmen en la que también participan la mezzosoprano P
 aula Costes y el tenor Francesc Rodoreda.
LAST-MODIFIED;VALUE=DATE-TIME:20241120T141405Z
URL:https://www.paeria.cat/es/actualidad/agenda/concierto-de-navidad-carme
 n-banda-municipal-de-lleida
END:VEVENT
BEGIN:VTIMEZONE
TZID:Europe/Madrid
X-LIC-LOCATION:Europe/Madrid
BEGIN:STANDARD
DTSTART;VALUE=DATE-TIME:20241027T020000
TZNAME:CET
TZOFFSETFROM:+0200
TZOFFSETTO:+0100
END:STANDARD
END:VTIMEZONE
END:VCALENDAR
