BEGIN:VCALENDAR
VERSION:2.0
PRODID:-//Plone.org//NONSGML plone.app.event//EN
X-WR-TIMEZONE:Europe/Madrid
BEGIN:VEVENT
SUMMARY:Concierto Demian Band
DTSTART;TZID=Europe/Madrid;VALUE=DATE-TIME:20241215T200000
DTSTAMP;VALUE=DATE-TIME:20260422T133905Z
UID:0820ccd0971843379f7c1342be8f513e@www.paeria.cat
CATEGORIES:Música,Cultura
CREATED;VALUE=DATE-TIME:20241203T071139Z
LAST-MODIFIED;VALUE=DATE-TIME:20241203T071148Z
URL:https://www.paeria.cat/es/actualidad/agenda/concierto-demian-band
END:VEVENT
BEGIN:VTIMEZONE
TZID:Europe/Madrid
X-LIC-LOCATION:Europe/Madrid
BEGIN:STANDARD
DTSTART;VALUE=DATE-TIME:20241027T020000
TZNAME:CET
TZOFFSETFROM:+0200
TZOFFSETTO:+0100
END:STANDARD
END:VTIMEZONE
END:VCALENDAR
