BEGIN:VCALENDAR
VERSION:2.0
PRODID:-//Plone.org//NONSGML plone.app.event//EN
X-WR-TIMEZONE:Europe/Madrid
BEGIN:VEVENT
SUMMARY:Concierto Extraordinario de MARTHA ARGERICH Y PABLO GALDO
DTSTART;TZID=Europe/Madrid;VALUE=DATE-TIME:20240404T200000
DTEND;TZID=Europe/Madrid;VALUE=DATE-TIME:20240404T211500
DTSTAMP;VALUE=DATE-TIME:20260423T091913Z
UID:8b937835df4449ff91e6574754479d99@www.paeria.cat
CATEGORIES:Cultura,Público,Música
CREATED;VALUE=DATE-TIME:20240227T141637Z
DESCRIPTION:La magnífica pianista Martha Argerich (Buenos Aires\, 1941) o
 frecerá un concierto en la sala sinfónica del Auditori Enric Granados el
  jueves 4 de abril acompañada del pianista Pablo Galdo\, en la segunda pa
 rte del concierto actuarán con la formación residente del Auditorio Llei
 dArt Ensemble.
LAST-MODIFIED;VALUE=DATE-TIME:20260415T085847Z
URL:https://www.paeria.cat/es/actualidad/agenda/concierto-extraordinario-d
 e-martha-argerich-y-pablo-galdo
END:VEVENT
BEGIN:VTIMEZONE
TZID:Europe/Madrid
X-LIC-LOCATION:Europe/Madrid
BEGIN:DAYLIGHT
DTSTART;VALUE=DATE-TIME:20240331T030000
TZNAME:CEST
TZOFFSETFROM:+0100
TZOFFSETTO:+0200
END:DAYLIGHT
END:VTIMEZONE
END:VCALENDAR
