BEGIN:VCALENDAR
VERSION:2.0
PRODID:-//Plone.org//NONSGML plone.app.event//EN
X-WR-TIMEZONE:Europe/Madrid
BEGIN:VEVENT
SUMMARY:Concierto familiar de Rock por Xics en la plaza de la Lonja
DTSTART;TZID=Europe/Madrid;VALUE=DATE-TIME:20251109T124500
DTEND;TZID=Europe/Madrid;VALUE=DATE-TIME:20251109T140000
DTSTAMP;VALUE=DATE-TIME:20260422T101953Z
UID:dbca681311b249dba535b1bd36830d54@www.paeria.cat
CATEGORIES:Cultura,Música,Infantil,Familiar
CREATED;VALUE=DATE-TIME:20251103T134728Z
DESCRIPTION:El domingo 9 de noviembre de 2025\, la plaza de la Lonja acoge
 rá el concierto familiar de Rock por Xics\, a las 12.45 h\, después de l
 a proyección del filme “Hola\, Frida!” dentro del ciclo Cinemón Xic 
 2025. El espectáculo\, dirigido a niños y familias\, combina el rock cl
 ásico con canciones populares catalanas\, creando un espacio de diversió
 n\, participación y aprendizaje a través de la música. Con energía y h
 umor\, el grupo transmite valores como la convivencia\, la solidaridad\, l
 a libertad y el respeto. Este concierto forma parte de la programación de
 l proyecto Cinemón Xic-Cine Infantil en Valores\, impulsado por la Concej
 alía de Cooperación del Ayuntamiento de Lleida\, que promueve actividade
 s educativas y culturales para la transformación social. Actividad gratui
 ta y abierta a todo el mundo\, sin reserva previa.
LAST-MODIFIED;VALUE=DATE-TIME:20251104T134017Z
URL:https://www.paeria.cat/es/actualidad/agenda/concierto-familiar-de-rock
 -por-xics-en-la-plaza-de-la-lonja
END:VEVENT
BEGIN:VTIMEZONE
TZID:Europe/Madrid
X-LIC-LOCATION:Europe/Madrid
BEGIN:STANDARD
DTSTART;VALUE=DATE-TIME:20251026T020000
TZNAME:CET
TZOFFSETFROM:+0200
TZOFFSETTO:+0100
END:STANDARD
END:VTIMEZONE
END:VCALENDAR
