BEGIN:VCALENDAR
VERSION:2.0
PRODID:-//Plone.org//NONSGML plone.app.event//EN
X-WR-TIMEZONE:Europe/Madrid
BEGIN:VEVENT
SUMMARY:Concierto Girish and The Chronicles + Pandora
DTSTART;TZID=Europe/Madrid;VALUE=DATE-TIME:20241123T213000
DTSTAMP;VALUE=DATE-TIME:20260420T142642Z
UID:8bbf3bb0928d40e9964252d05d2b4de8@www.paeria.cat
CATEGORIES:Música,Cultura
CREATED;VALUE=DATE-TIME:20241104T090132Z
LAST-MODIFIED;VALUE=DATE-TIME:20241104T090146Z
URL:https://www.paeria.cat/es/actualidad/agenda/concierto-girish-and-the-c
 hronicles-pandora
END:VEVENT
BEGIN:VTIMEZONE
TZID:Europe/Madrid
X-LIC-LOCATION:Europe/Madrid
BEGIN:STANDARD
DTSTART;VALUE=DATE-TIME:20241027T020000
TZNAME:CET
TZOFFSETFROM:+0200
TZOFFSETTO:+0100
END:STANDARD
END:VTIMEZONE
END:VCALENDAR
