BEGIN:VCALENDAR
VERSION:2.0
PRODID:-//Plone.org//NONSGML plone.app.event//EN
X-WR-TIMEZONE:Europe/Madrid
BEGIN:VEVENT
SUMMARY:Concierto Hey Bulldogs
DTSTART;TZID=Europe/Madrid;VALUE=DATE-TIME:20241123T230000
DTSTAMP;VALUE=DATE-TIME:20260422T135630Z
UID:e9578fe49d6047baa75bcb7091b843f3@www.paeria.cat
CATEGORIES:Música,Cultura
CREATED;VALUE=DATE-TIME:20241104T091100Z
LAST-MODIFIED;VALUE=DATE-TIME:20241104T091115Z
URL:https://www.paeria.cat/es/actualidad/agenda/concierto-hey-bulldogs
END:VEVENT
BEGIN:VTIMEZONE
TZID:Europe/Madrid
X-LIC-LOCATION:Europe/Madrid
BEGIN:STANDARD
DTSTART;VALUE=DATE-TIME:20241027T020000
TZNAME:CET
TZOFFSETFROM:+0200
TZOFFSETTO:+0100
END:STANDARD
END:VTIMEZONE
END:VCALENDAR
