BEGIN:VCALENDAR
VERSION:2.0
PRODID:-//Plone.org//NONSGML plone.app.event//EN
X-WR-TIMEZONE:Europe/Madrid
BEGIN:VEVENT
SUMMARY:Concierto Jarabe de Palo. Tributo a Pau Donés
DTSTART;TZID=Europe/Madrid;VALUE=DATE-TIME:20240322T213000
DTSTAMP;VALUE=DATE-TIME:20260423T052035Z
UID:3d7c72968a2e4e63a917b794b1e25cb6@www.paeria.cat
CATEGORIES:Música,Cultura
CREATED;VALUE=DATE-TIME:20240223T092035Z
LAST-MODIFIED;VALUE=DATE-TIME:20240223T092042Z
URL:https://www.paeria.cat/es/actualidad/agenda/concierto-jarabe-de-palo-t
 ributo-a-pau-dones
END:VEVENT
BEGIN:VTIMEZONE
TZID:Europe/Madrid
X-LIC-LOCATION:Europe/Madrid
BEGIN:STANDARD
DTSTART;VALUE=DATE-TIME:20231029T020000
TZNAME:CET
TZOFFSETFROM:+0200
TZOFFSETTO:+0100
END:STANDARD
END:VTIMEZONE
END:VCALENDAR
