BEGIN:VCALENDAR
VERSION:2.0
PRODID:-//Plone.org//NONSGML plone.app.event//EN
X-WR-TIMEZONE:Europe/Madrid
BEGIN:VEVENT
SUMMARY:Concierto Lleida Jazz Heroes
DTSTART;TZID=Europe/Madrid;VALUE=DATE-TIME:20241226T200000
DTSTAMP;VALUE=DATE-TIME:20260420T225827Z
UID:66c5f94399ac429ea8a122b9fa88c540@www.paeria.cat
CATEGORIES:Música,Cultura
CREATED;VALUE=DATE-TIME:20241223T124702Z
LAST-MODIFIED;VALUE=DATE-TIME:20241223T124709Z
URL:https://www.paeria.cat/es/actualidad/agenda/concierto-lleida-jazz-hero
 es
END:VEVENT
BEGIN:VTIMEZONE
TZID:Europe/Madrid
X-LIC-LOCATION:Europe/Madrid
BEGIN:STANDARD
DTSTART;VALUE=DATE-TIME:20241027T020000
TZNAME:CET
TZOFFSETFROM:+0200
TZOFFSETTO:+0100
END:STANDARD
END:VTIMEZONE
END:VCALENDAR
